BEGIN:VCALENDAR
VERSION:2.0
PRODID:-//Niedersachsen-Meute e. V. - ECPv6.15.20//NONSGML v1.0//EN
CALSCALE:GREGORIAN
METHOD:PUBLISH
X-ORIGINAL-URL:https://www.niedersachsenmeute.de
X-WR-CALDESC:Veranstaltungen für Niedersachsen-Meute e. V.
REFRESH-INTERVAL;VALUE=DURATION:PT1H
X-Robots-Tag:noindex
X-PUBLISHED-TTL:PT1H
BEGIN:VTIMEZONE
TZID:Europe/Berlin
BEGIN:DAYLIGHT
TZOFFSETFROM:+0100
TZOFFSETTO:+0200
TZNAME:CEST
DTSTART:20160327T010000
END:DAYLIGHT
BEGIN:STANDARD
TZOFFSETFROM:+0200
TZOFFSETTO:+0100
TZNAME:CET
DTSTART:20161030T010000
END:STANDARD
BEGIN:DAYLIGHT
TZOFFSETFROM:+0100
TZOFFSETTO:+0200
TZNAME:CEST
DTSTART:20170326T010000
END:DAYLIGHT
BEGIN:STANDARD
TZOFFSETFROM:+0200
TZOFFSETTO:+0100
TZNAME:CET
DTSTART:20171029T010000
END:STANDARD
BEGIN:DAYLIGHT
TZOFFSETFROM:+0100
TZOFFSETTO:+0200
TZNAME:CEST
DTSTART:20180325T010000
END:DAYLIGHT
BEGIN:STANDARD
TZOFFSETFROM:+0200
TZOFFSETTO:+0100
TZNAME:CET
DTSTART:20181028T010000
END:STANDARD
BEGIN:DAYLIGHT
TZOFFSETFROM:+0100
TZOFFSETTO:+0200
TZNAME:CEST
DTSTART:20190331T010000
END:DAYLIGHT
BEGIN:STANDARD
TZOFFSETFROM:+0200
TZOFFSETTO:+0100
TZNAME:CET
DTSTART:20191027T010000
END:STANDARD
BEGIN:DAYLIGHT
TZOFFSETFROM:+0100
TZOFFSETTO:+0200
TZNAME:CEST
DTSTART:20200329T010000
END:DAYLIGHT
BEGIN:STANDARD
TZOFFSETFROM:+0200
TZOFFSETTO:+0100
TZNAME:CET
DTSTART:20201025T010000
END:STANDARD
BEGIN:DAYLIGHT
TZOFFSETFROM:+0100
TZOFFSETTO:+0200
TZNAME:CEST
DTSTART:20210328T010000
END:DAYLIGHT
BEGIN:STANDARD
TZOFFSETFROM:+0200
TZOFFSETTO:+0100
TZNAME:CET
DTSTART:20211031T010000
END:STANDARD
BEGIN:DAYLIGHT
TZOFFSETFROM:+0100
TZOFFSETTO:+0200
TZNAME:CEST
DTSTART:20220327T010000
END:DAYLIGHT
BEGIN:STANDARD
TZOFFSETFROM:+0200
TZOFFSETTO:+0100
TZNAME:CET
DTSTART:20221030T010000
END:STANDARD
BEGIN:DAYLIGHT
TZOFFSETFROM:+0100
TZOFFSETTO:+0200
TZNAME:CEST
DTSTART:20230326T010000
END:DAYLIGHT
BEGIN:STANDARD
TZOFFSETFROM:+0200
TZOFFSETTO:+0100
TZNAME:CET
DTSTART:20231029T010000
END:STANDARD
BEGIN:DAYLIGHT
TZOFFSETFROM:+0100
TZOFFSETTO:+0200
TZNAME:CEST
DTSTART:20240331T010000
END:DAYLIGHT
BEGIN:STANDARD
TZOFFSETFROM:+0200
TZOFFSETTO:+0100
TZNAME:CET
DTSTART:20241027T010000
END:STANDARD
BEGIN:DAYLIGHT
TZOFFSETFROM:+0100
TZOFFSETTO:+0200
TZNAME:CEST
DTSTART:20250330T010000
END:DAYLIGHT
BEGIN:STANDARD
TZOFFSETFROM:+0200
TZOFFSETTO:+0100
TZNAME:CET
DTSTART:20251026T010000
END:STANDARD
BEGIN:DAYLIGHT
TZOFFSETFROM:+0100
TZOFFSETTO:+0200
TZNAME:CEST
DTSTART:20260329T010000
END:DAYLIGHT
BEGIN:STANDARD
TZOFFSETFROM:+0200
TZOFFSETTO:+0100
TZNAME:CET
DTSTART:20261025T010000
END:STANDARD
END:VTIMEZONE
BEGIN:VTIMEZONE
TZID:UTC
BEGIN:STANDARD
TZOFFSETFROM:+0000
TZOFFSETTO:+0000
TZNAME:UTC
DTSTART:20210101T000000
END:STANDARD
END:VTIMEZONE
BEGIN:VEVENT
DTSTART;VALUE=DATE:20251108
DTEND;VALUE=DATE:20251109
DTSTAMP:20260421T123757
CREATED:20250408T075143Z
LAST-MODIFIED:20250918T103014Z
UID:10000620-1762560000-1762646399@www.niedersachsenmeute.de
SUMMARY:Kremmen 2025
DESCRIPTION:EINLADUNG\nzur\nReitjagd in Kremmen\nam 8. November 2025 \nHier finden Sie die Einladung Teil 1 | Teil 2 zur Schleppjagd in Kremmen. \n 
URL:https://www.niedersachsenmeute.de/veranstaltung/kremmen-2025/
LOCATION:Kremmen\, Kremmen OT Staffelde\, 16766\, Deutschland
GEO:52.7338942;12.9864434
END:VEVENT
BEGIN:VEVENT
DTSTART;TZID=Europe/Berlin:20241109T110000
DTEND;TZID=Europe/Berlin:20241109T235900
DTSTAMP:20260421T123757
CREATED:20240304T212542Z
LAST-MODIFIED:20241010T104410Z
UID:10000582-1731150000-1731196740@www.niedersachsenmeute.de
SUMMARY:Kremmen 2024
DESCRIPTION:EINLADUNG \nzur Reitjagd am Samstag\, den 09.11.2024\,\nhinter der Niedersachsen-Meute e.V.\nin 16766 Kremmen\, OT Staffelde \nRendezvous – 11:00 Uhr | Stelldichein – 11:45 Uhr (zu Pferde) | Abritt – ca. 12:00 Uhr
URL:https://www.niedersachsenmeute.de/veranstaltung/kremmen-2024/
LOCATION:Kremmen\, Kremmen OT Staffelde\, 16766\, Deutschland
GEO:52.7338942;12.9864434
END:VEVENT
BEGIN:VEVENT
DTSTART;TZID=Europe/Berlin:20231111T110000
DTEND;TZID=Europe/Berlin:20231111T235900
DTSTAMP:20260421T123757
CREATED:20230606T102457Z
LAST-MODIFIED:20230915T140615Z
UID:10000535-1699700400-1699747140@www.niedersachsenmeute.de
SUMMARY:Kremmen 2023
DESCRIPTION:Die vollständige Einladung zur Reitjagd in Kremmen finden Sie hier.
URL:https://www.niedersachsenmeute.de/veranstaltung/kremmen-2023/
LOCATION:Kremmen\, Kremmen OT Staffelde\, 16766\, Deutschland
ORGANIZER;CN="M. Voigts":MAILTO:malte.voigts@rhinland.de
GEO:52.7338942;12.9864434
END:VEVENT
BEGIN:VEVENT
DTSTART;TZID=UTC:20221105T110000
DTEND;TZID=UTC:20221105T163000
DTSTAMP:20260421T123757
CREATED:20220417T184819Z
LAST-MODIFIED:20221023T074553Z
UID:10000384-1667646000-1667665800@www.niedersachsenmeute.de
SUMMARY:Kremmen
DESCRIPTION:-> Einladung Kremmen 2022\nAnreise: Bitte den Beschilderungen vor Ort folgen.
URL:https://www.niedersachsenmeute.de/veranstaltung/kremmen-2/
LOCATION:Kremmen\, Kremmen OT Staffelde\, 16766\, Deutschland
ORGANIZER;CN="M. Voigts":MAILTO:malte.voigts@rhinland.de
GEO:52.7338942;12.9864434
END:VEVENT
BEGIN:VEVENT
DTSTART;TZID=Europe/Berlin:20211106T110000
DTEND;TZID=Europe/Berlin:20211106T160000
DTSTAMP:20260421T123757
CREATED:20210311T125442Z
LAST-MODIFIED:20211008T093359Z
UID:10000468-1636196400-1636214400@www.niedersachsenmeute.de
SUMMARY:Kremmen Jagd
DESCRIPTION:-> Einladung_Kremmen_2021
URL:https://www.niedersachsenmeute.de/veranstaltung/kremmen-jagd-2/
LOCATION:Kremmen\, Kremmen OT Staffelde\, 16766\, Deutschland
GEO:52.7338942;12.9864434
END:VEVENT
BEGIN:VEVENT
DTSTART;TZID=Europe/Berlin:20201107T080000
DTEND;TZID=Europe/Berlin:20201107T170000
DTSTAMP:20260421T123757
CREATED:20200322T130528Z
LAST-MODIFIED:20200903T141211Z
UID:10000452-1604736000-1604768400@www.niedersachsenmeute.de
SUMMARY:Kremmen
DESCRIPTION:
URL:https://www.niedersachsenmeute.de/veranstaltung/kremmen/
LOCATION:Kremmen\, Kremmen OT Staffelde\, 16766\, Deutschland
ORGANIZER;CN="M. Voigts":MAILTO:malte.voigts@rhinland.de
GEO:52.7338942;12.9864434
END:VEVENT
BEGIN:VEVENT
DTSTART;TZID=Europe/Berlin:20191102T110000
DTEND;TZID=Europe/Berlin:20191102T163000
DTSTAMP:20260421T123757
CREATED:20190618T075644Z
LAST-MODIFIED:20191011T083305Z
UID:10000433-1572692400-1572712200@www.niedersachsenmeute.de
SUMMARY:Jagd Kremmen
DESCRIPTION:Hier entlang\, zur Einladung zur Jagd in Kremmen -> Einladung Kremmen 2019
URL:https://www.niedersachsenmeute.de/veranstaltung/jagd-kremmen-2/
LOCATION:Kremmen\, Kremmen OT Staffelde\, 16766\, Deutschland
ORGANIZER;CN="M. Voigts":MAILTO:malte.voigts@rhinland.de
GEO:52.7338942;12.9864434
END:VEVENT
BEGIN:VEVENT
DTSTART;TZID=Europe/Berlin:20181117T110000
DTEND;TZID=Europe/Berlin:20181117T170000
DTSTAMP:20260421T123757
CREATED:20180708T090142Z
LAST-MODIFIED:20181113T173152Z
UID:10000287-1542452400-1542474000@www.niedersachsenmeute.de
SUMMARY:Kremmen Jagd
DESCRIPTION:Hier der Link mit den genauen Details zur Jagd in Kremmen: Einladung Kremmen 2018
URL:https://www.niedersachsenmeute.de/veranstaltung/kremmen-jagd/
LOCATION:Kremmen\, Kremmen OT Staffelde\, 16766\, Deutschland
ORGANIZER;CN="M. Voigts":MAILTO:malte.voigts@rhinland.de
GEO:52.7338942;12.9864434
END:VEVENT
BEGIN:VEVENT
DTSTART;TZID=Europe/Berlin:20171111T111100
DTEND;TZID=Europe/Berlin:20171111T170000
DTSTAMP:20260421T123757
CREATED:20170529T144826Z
LAST-MODIFIED:20170914T144831Z
UID:10000375-1510398660-1510419600@www.niedersachsenmeute.de
SUMMARY:Jagd Kremmen
DESCRIPTION: 
URL:https://www.niedersachsenmeute.de/veranstaltung/jagd-kremmen/
LOCATION:Kremmen\, Kremmen OT Staffelde\, 16766\, Deutschland
ORGANIZER;CN="M. Voigts":MAILTO:malte.voigts@rhinland.de
GEO:52.7338942;12.9864434
END:VEVENT
END:VCALENDAR