BEGIN:VCALENDAR
VERSION:2.0
PRODID:-//Niedersachsen-Meute e. V. - ECPv6.15.20//NONSGML v1.0//EN
CALSCALE:GREGORIAN
METHOD:PUBLISH
X-WR-CALNAME:Niedersachsen-Meute e. V.
X-ORIGINAL-URL:https://www.niedersachsenmeute.de
X-WR-CALDESC:Veranstaltungen für Niedersachsen-Meute e. V.
REFRESH-INTERVAL;VALUE=DURATION:PT1H
X-Robots-Tag:noindex
X-PUBLISHED-TTL:PT1H
BEGIN:VTIMEZONE
TZID:Europe/Berlin
BEGIN:DAYLIGHT
TZOFFSETFROM:+0100
TZOFFSETTO:+0200
TZNAME:CEST
DTSTART:20170326T010000
END:DAYLIGHT
BEGIN:STANDARD
TZOFFSETFROM:+0200
TZOFFSETTO:+0100
TZNAME:CET
DTSTART:20171029T010000
END:STANDARD
BEGIN:DAYLIGHT
TZOFFSETFROM:+0100
TZOFFSETTO:+0200
TZNAME:CEST
DTSTART:20180325T010000
END:DAYLIGHT
BEGIN:STANDARD
TZOFFSETFROM:+0200
TZOFFSETTO:+0100
TZNAME:CET
DTSTART:20181028T010000
END:STANDARD
BEGIN:DAYLIGHT
TZOFFSETFROM:+0100
TZOFFSETTO:+0200
TZNAME:CEST
DTSTART:20190331T010000
END:DAYLIGHT
BEGIN:STANDARD
TZOFFSETFROM:+0200
TZOFFSETTO:+0100
TZNAME:CET
DTSTART:20191027T010000
END:STANDARD
BEGIN:DAYLIGHT
TZOFFSETFROM:+0100
TZOFFSETTO:+0200
TZNAME:CEST
DTSTART:20200329T010000
END:DAYLIGHT
BEGIN:STANDARD
TZOFFSETFROM:+0200
TZOFFSETTO:+0100
TZNAME:CET
DTSTART:20201025T010000
END:STANDARD
BEGIN:DAYLIGHT
TZOFFSETFROM:+0100
TZOFFSETTO:+0200
TZNAME:CEST
DTSTART:20210328T010000
END:DAYLIGHT
BEGIN:STANDARD
TZOFFSETFROM:+0200
TZOFFSETTO:+0100
TZNAME:CET
DTSTART:20211031T010000
END:STANDARD
END:VTIMEZONE
BEGIN:VEVENT
DTSTART;TZID=Europe/Berlin:20200923T080000
DTEND;TZID=Europe/Berlin:20200928T170000
DTSTAMP:20260422T115026
CREATED:20200113T074341Z
LAST-MODIFIED:20200715T110156Z
UID:10000440-1600848000-1601312400@www.niedersachsenmeute.de
SUMMARY:Jagdwoche Norderney
DESCRIPTION:Schweren Herzens haben wir uns entschlossen\, die Norderneyer Beachside Classics und die Norderneyer Jagdwoche 2020 abzusagen. Dieser Schritt ist uns als leidenschaftlicher Gastgeber und Veranstalter nicht leicht gefallen. \nAm Mittwoch 15. April 2020 veröffentlichte die Bundesregierung die Entscheidung\, Großveranstaltungen bis mindestens 31. August 2020 zu untersagen. Mögliche weitere Einschränkungen sind zu dem heutigen Zeitpunkt noch nicht absehbar. \nWir sind eine Veranstaltung\, die vom Zusammensein und dem Zusammenspiel Aller lebt.Die Norderneyer Beachside Classics stehen unter anderem für Reitsport mit Urlaubsambiente. Unsicher ist daher eine planbare Durchführung in der gewohnt lockeren und entspannten Atmosphäre. Eine kurzfristige Absage würde den Teilnehmern nicht gerecht werden. Die Gesundheit und Sicherheit aller Besucher\, Mitarbeiter\, Helfer\, Aussteller\, Sponsoren und sämtlichen weiteren Freunden des Reitsports steht für uns im Vordergrund. \nWir hoffen auf Ihr Verständnis und freuen uns jetzt schon sehr auf die Norderneyer Beachside Classics 2021. \nVoraussichtlich richten wir die Norderneyer Beachside Classics nächstes Jahr wie gewohnt am dritten September Wochenende aus. Wir hoffen\, dass uns dann alle Beteiligten weiterhin in gewohnter Weise unterstützen. \nInformationen und Updates gibt es weiterhin auf der Internetseite sowie in den Sozialen Medien. \nBitte bleiben Sie gesund! \nDas Team der Core F 18 \n      Sie sehen gerade einen Platzhalterinhalt von YouTube. Um auf den eigentlichen Inhalt zuzugreifen\, klicken Sie auf die Schaltfläche unten. Bitte beachten Sie\, dass dabei Daten an Drittanbieter weitergegeben werden.  Mehr Informationen   Inhalt entsperren Erforderlichen Service akzeptieren und Inhalte entsperren
URL:https://www.niedersachsenmeute.de/veranstaltung/jagdwoche-norderney-2/
LOCATION:Reitschule Junkmann Norderney\, Lippestraße 23\, Norderney\, 26548 \, Deutschland
ORGANIZER;CN="F. Junkmann":MAILTO:kontakt@coref18.de
GEO:53.71451;7.17457
X-APPLE-STRUCTURED-LOCATION;VALUE=URI;X-ADDRESS=Reitschule Junkmann Norderney Lippestraße 23 Norderney 26548  Deutschland;X-APPLE-RADIUS=500;X-TITLE=Lippestraße 23:geo:7.17457,53.71451
END:VEVENT
BEGIN:VEVENT
DTSTART;TZID=Europe/Berlin:20190918T080000
DTEND;TZID=Europe/Berlin:20190923T170000
DTSTAMP:20260422T115026
CREATED:20190113T100336Z
LAST-MODIFIED:20190625T143851Z
UID:10000294-1568793600-1569258000@www.niedersachsenmeute.de
SUMMARY:Jagdreitertage Norderney
DESCRIPTION:Einladung:\n-> Jagd und Fahren Norderney 2019 <-\nOnline finden Sie das ganze hier. \n60. Jagdreitertage Norderney 2019 – Safe-the-date\nLiebe Jagdreiter\, \nHiermit möchten wir allen Interessierten gerne mittteilen\, dass der Termin der 60. Jagdreiterwoche auf Norderney vom 18. bis 22. September 2019 geplant ist. \nWir freuen uns auf ein Wiedersehen mit Euch allen. \nMit freundlichen Grüßen\, Felix Junkmann \nGrobe Zeitplanung:\n2019-09-18: Mit. Anreise und Jagdlicher Ausritt \n2019-09-19: Eröffnungsjagd (NW 21:10 Uhr) und Hubertusmesse \n2019-09-20: Fre. Inselendejagd (NW: 09:47 Uhr) \n2019-09-21: Sam. Jugend-Jagdseminar (NW 10:15 Uhr / HW 16:27 Uhr)\nplus Jugendjagd – „Ostweide-Strand“ und Jubiläumsabend \n2019-09-22: Son. Hauptjagd (NW: 10:56 Uhr) \nAngedachte Boxenkategorien / Boxenpauschalen: \n\nKomfort-Pauschale\nBox mit Versorgung (Außenbox\, Reithalle)\nPauschale Mit. 18. Bis Mon. 23.09.2019 (5 Nächte) für 260 Euro\nVerlängerungsnacht: 40 Euro\n\n2. Sparfuchs-Pauschale\nBox Selbstversorgung (Reithalle)\nPauschale Mit. 18. Bis Mon. 23.09.2019 (5 Nächte) für 130 Euro\nVerlängerungsnacht: 28 Euro
URL:https://www.niedersachsenmeute.de/veranstaltung/jagdreitertage-norderney/
LOCATION:Reitschule Junkmann Norderney\, Lippestraße 23\, Norderney\, 26548 \, Deutschland
ORGANIZER;CN="Core F 18 Events GmbH & Co KG":MAILTO:kontakt@coref18.de
GEO:53.71451;7.17457
X-APPLE-STRUCTURED-LOCATION;VALUE=URI;X-ADDRESS=Reitschule Junkmann Norderney Lippestraße 23 Norderney 26548  Deutschland;X-APPLE-RADIUS=500;X-TITLE=Lippestraße 23:geo:7.17457,53.71451
END:VEVENT
BEGIN:VEVENT
DTSTART;TZID=Europe/Berlin:20180823T080000
DTEND;TZID=Europe/Berlin:20180827T170000
DTSTAMP:20260422T115026
CREATED:20180408T224150Z
LAST-MODIFIED:20180708T083124Z
UID:10000275-1535011200-1535389200@www.niedersachsenmeute.de
SUMMARY:Norderneyer Jagdreitertage 2018
DESCRIPTION:59.Jagdreitertage Norderney\n\ngejagt wird hinter der Niedersachsenmeute im\nUNESCO Weltnaturerbe Niedersächsisches Wattenmeer \nDonnerstag\, 23.08.: Individuelle Anreise mit Begrüßung von Pferd und Reiter im Stall\n19:00 Uhr Kennenlernabend mit Krabbenbrot in der Meierei \nFreitag\, 24.08.: 1. Jagd:\n \nStelldichein: 16:30 Uhr an der Ostweide;\nStrecke: Rieselfelder\, Strand/ Dünen ca. 10 km mit 10 Sprüngen \n19:30 Uhr Jagdessen in der Meierei \nSamstag\, 25.08.: Strandtag  17:00 Uhr Hunde bewegen mit Picknick am Stran \nder Weissen Düne  für Reiter und Fußgänger \nSonntag\, 26.08.: Inselendejagd\nStelldichein:  16:30 Uhr östl. FKK-Strand;\nStrecke: Strand\, Inselende und zurück (ca. 18 km/vom Stall 25 km)\nca. 19.30 Großes Jagd Menu in der „Weissen Düne“ \nMontag\, 27.08.: Hubertus Messe  im Hof der Reitschule \nDienstag\, 28.08.: Hauptjagd\n \nStelldichein: 17:00 Uhr an der Ostweide; Strecke ca 12 km Weiden\, Dünen\, Strand \ndanach Essen in Jagdkleidung in der Meierei \nMittwoch\, 29.08. : Ca. 09:00 Uhr  Jagdlicher Ausritt und Verabschiedung der Meute/ \nIndividuelle Abreise \n_____________________________________________________________________________________________________ \nJagdlicher Sicherheitshinweis: der Veranstalter weist auf die Gefährlichkeit von Schleppjagden hin und bittet um die größte Vorsicht und Rücksichtnahme nach den Regeln der Jagdordnung von 1971. Der Veranstalter und Teilnehmer haftet bei Sachschäden untereinander lediglich für Vorsatz und grobe Fahrlässigkeit. \nJagdfelder:         1. Feld = springendes Feld hinter der Meute \n\nFeld = nichtspringendes Feld\n\n                          evtl. 3. Feld = Anfängerfeld/Zuschauerfeld \nJagdbläser:       Jacquy Lognard und Arne Sauerbrey \nJagdkleidung:    Alle Jagden werden im Jagdrock und mit fester Reitkappe geritten. Die Veranstalter empfehlen das Tragen einer Sicherheitsweste. Zum Hundetraining wird Tweed gewünscht. \nJagdpreise:        Pauschale für aktive Teilnehmer: 425\,00 € darin enthalten:\nCupgeld\, Meute und Vorführung der Hunde\, Begrüßungsgetränk im Hof\, Krabbenbrotabend in der Meierei\, Picknick am Badestrand der Weissen Düne\, Hubertusmesse und 3 x Jagdessen \nPauschale für nicht reitende Teilnehmer ca. 250\,00 €\nAlle Getränke\, außer Begrüßungsgetränk bitte selbst zahlen. \n  \nPauschale für eine Pferdebox in der Reitschule Junkmann (23. – 29.08. 2018) beträgt 250\,-€ \nAn den 59. Norderneyer Jagdreitertagen können nur Reiter und Pferde teilnehmen\, die über die \nReitschule Junkmann angemeldet sind. \nDie Uhrzeiten zum Stelldichein und zum Abritt\, sowie die Richtung der Route können je nach Wetter kurzfristig verändert werden. Wir bitten um Beachtung der Infos in der Reitschule Junkmann. \nAnmeldungen zu den Jagdreitertagen\, der Jagdpauschalen/Boxenpauschalen sind nur gültig\, wenn bis zum 30.07.18 das offizielle Anmeldeformular und die Überweisung der Pauschale eingegangen sind \n-> Jagdeinladung & Anmeldung Norderney 2018
URL:https://www.niedersachsenmeute.de/veranstaltung/norderneyer-jagdreitertage-2018/
LOCATION:Reitschule Junkmann Norderney\, Lippestraße 23\, Norderney\, 26548 \, Deutschland
GEO:53.71451;7.17457
X-APPLE-STRUCTURED-LOCATION;VALUE=URI;X-ADDRESS=Reitschule Junkmann Norderney Lippestraße 23 Norderney 26548  Deutschland;X-APPLE-RADIUS=500;X-TITLE=Lippestraße 23:geo:7.17457,53.71451
END:VEVENT
END:VCALENDAR